Workbook
Name _Hlk38842750: Свод!$B$16
Name _Hlk38847491: Свод!$A$7
Name Исполнитель: [1]!Таблица5[Исполнитель]
Name Подотчетность: [1]!Таблица2[Подотчетность]

Sheet Свод
K4: УТВЕРЖДЕН постановление администрации городского округа Кашира от 19.11.2024 № 2650-па
A8: Сводный титульный список объектов благоустройства, расположенных на территории муниципального образования "Городской округ Кашира Московской области"
A10: № | B10: Наименование | G10: Ед. изм. | H10: Уборочная площадь (всего) | I10: Уборочная площадь содержится: | M10: Доля уборочной площади (всего) от общей площади городского округа (%)
I12: ОМСУ, МБУ, МКУ | K12: Иными лицами
I13: Площадь механизированной уборки | J13: Площадь ручной уборки | K13: Площадь механизированной уборки | L13: Площадь ручной уборки
A14: 1 | B14: 2 | G14: 3 | H14: 4 | I14: 5 | J14: 6 | K14: 7 | L14: 8 | M14: 9
A15: 1 | B15: Объекты благоустройства сводного титульного списка объектов благоустройства, расположенных на территории Московской области1 | G15: кв.м. | H15: =+I15+J15+K15+L15 -> #REF! | I15: =I22+I44 -> #REF! | J15: =J22+J44 -> #REF! | K15: =K22+K44 -> #REF! | L15: =L22+L44 -> #REF!
A17: № | B17: Наименование | C17: Количество объектов благоустройства в составе придомовых территорий многоквартирных домов3 | G17: Ед. изм. | H17: Уборочная площадь объектов благоустройства в составе придомовых территорий многоквартирных домов4 | M17: Примечание
B19: Объекты благоустройства в составе придомовых территорий многоквартирных домов3 | C19: Ед. | D19: Количество объектов благоустройства (всего) | E19: Объекты содержатся: | H19: Уборочная площадь (всего) | I19: ОМСУ, МБУ, МКУ | K19: ЭО
E20: ОМСУ, МБУ, МКУ | F20: ЭО | I20: Площадь механизированной уборки | J20: Площадь ручной уборки | K20: Площадь механизированной уборки | L20: Площадь ручной уборки
A21: 10 | B21: 11 | C21: 12 | D21: 13 | E21: 14 | F21: 15 | G21: 16 | H21: 17 | I21: 18 | J21: 19 | K21: 20 | L21: 21 | M21: 22
A22: 2. | B22: Объекты благоустройства в составе придомовых территорий многоквартирных домов (всего), в том числе: | G22: кв.м. | H22: =SUM(I22:L22) -> #REF! | I22: =SUM(I23:I24,I26:I30,I31,I35:I37) -> #REF! | J22: =SUM(J23:J24,J26:J30,J31,J35:J37) -> #REF! | K22: =SUM(K23:K24,K26:K30,K31,K35:K37) -> #REF! | L22: =SUM(L23:L24,L26:L30,L31,L35:L37) -> #REF! | O22: Проверка площади по дворовым территориям
A23: 2.1. | B23: Детские игровые площадки | C23: ед. | D23: =E23+F23 -> #REF! | E23: =#REF! -> #REF! | F23: =#REF! -> #REF! | G23: кв. м | H23: =SUM(I23:L23) -> #REF! | I23: =#REF!+#REF! -> #REF! | J23: =#REF!+#REF!+#REF!+#REF!+#REF!+#REF!+#REF!+#REF! -> #REF! | K23: =#REF!+#REF! -> #REF! | L23: =#REF!+#REF!+#REF!+#REF!+#REF!+#REF!+#REF!+#REF! -> #REF!
A24: 2.2. | B24: Спортивные площадки | C24: ед. | D24: =E24+F24 -> #REF! | E24: =#REF! -> #REF! | F24: =#REF! -> #REF! | G24: кв. м | H24: =SUM(I24:L24) -> #REF! | I24: =#REF!+#REF! -> #REF! | J24: =#REF!+#REF!+#REF!+#REF!+#REF!+#REF!+#REF!+#REF!+#REF!+#REF! -> #REF! | K24: =#REF!+#REF! -> #REF! | L24: =#REF!+#REF!+#REF!+#REF!+#REF!+#REF!+#REF!+#REF!+#REF!+#REF! -> #REF! | O24: =#REF!-Свод!H22 -> #REF!
A25: 2.2.1. | B25: Скейтпарки | C25: ед | D25: =E25+F25 -> #REF! | E25: =#REF! -> #REF! | F25: =#REF! -> #REF! | G25: кв. м
A26: 2.3. | B26: Площадки отдыха | C26: ед. | D26: =E26+F26 -> #REF! | E26: =#REF! -> #REF! | F26: =#REF! -> #REF! | G26: кв. м | H26: =SUM(I26:L26) -> #REF! | I26: =#REF!+#REF! -> #REF! | J26: =#REF!+#REF!+#REF!+#REF!+#REF!+#REF!+#REF!+#REF!+#REF! -> #REF! | K26: =#REF!+#REF! -> #REF! | L26: =#REF!+#REF!+#REF!+#REF!+#REF!+#REF!+#REF!+#REF!+#REF! -> #REF!
A27: 2.4. | B27: Контейнерные площадки | C27: ед. | D27: =E27+F27 -> #REF! | E27: =#REF! -> #REF! | F27: =#REF! -> #REF! | G27: кв. м | H27: =SUM(I27:L27) -> #REF! | I27: =#REF!+#REF! -> #REF! | J27: =#REF!+#REF! -> #REF! | K27: =#REF!+#REF! -> #REF! | L27: =#REF!+#REF! -> #REF!
A28: 2.5. | B28: Коллективные автостоянки | C28: ед. мест | D28: =E28+F28 -> #REF! | E28: =#REF! -> #REF! | F28: =#REF! -> #REF! | G28: кв. м | H28: =SUM(I28:L28) -> #REF! | I28: =#REF!+#REF! -> #REF! | J28: =#REF!+#REF!+#REF!+#REF!+#REF!+#REF! -> #REF! | K28: =#REF!+#REF! -> #REF! | L28: =#REF!+#REF!+#REF!+#REF!+#REF!+#REF! -> #REF!
A29: 2.6. | B29: Велодорожки | C29: ед. | D29: =E29+F29 -> #REF! | E29: =#REF! -> #REF! | F29: =#REF! -> #REF! | G29: кв. м | H29: =SUM(I29:L29) -> #REF! | I29: =#REF!+#REF! -> #REF! | J29: =#REF!+#REF!+#REF!+#REF!+#REF!+#REF!+#REF!+#REF! -> #REF! | K29: =#REF!+#REF! -> #REF! | L29: =#REF!+#REF!+#REF!+#REF!+#REF!+#REF!+#REF!+#REF! -> #REF!
A30: 2.7. | B30: Внутридворовые проезды (полосы движения транспортных средств) | C30: пог. м | D30: =E30+F30 -> #REF! | E30: =#REF! -> #REF! | F30: =#REF! -> #REF! | G30: кв. м | H30: =SUM(I30:L30) -> #REF! | I30: =#REF!+#REF! -> #REF! | J30: =#REF!+#REF!+#REF!+#REF!+#REF!+#REF! -> #REF! | K30: =#REF!+#REF! -> #REF! | L30: =#REF!+#REF!+#REF!+#REF!+#REF!+#REF! -> #REF!
A31: 2.8. | B31: Тротуары, в т. ч.: | C31: пог. м | D31: =E31+F31 -> #REF! | E31: =#REF! -> #REF! | F31: =#REF! -> #REF! | G31: кв. м | H31: =SUM(I31:L31) -> #REF! | I31: =SUM(I32:I34) -> #REF! | J31: =SUM(J32:J34) -> #REF! | K31: =SUM(K32:K34) -> #REF! | L31: =SUM(L32:L34) -> #REF!
A32: 2.8.1. | B32: 1 класс | C32: пог. м | G32: кв. м | H32: =SUM(I32:L32) -> #REF! | I32: =#REF!+#REF! -> #REF! | J32: =#REF!+#REF!+#REF!+#REF!+#REF!+#REF! -> #REF! | K32: =#REF!+#REF! -> #REF! | L32: =#REF!+#REF!+#REF!+#REF!+#REF!+#REF! -> #REF!
A33: 2.8.2. | B33: 2 класс | C33: пог. м | G33: кв. м | H33: =SUM(I33:L33) -> #REF! | I33: =#REF!+#REF! -> #REF! | J33: =#REF!+#REF!+#REF!+#REF!+#REF!+#REF! -> #REF! | K33: =#REF!+#REF! -> #REF! | L33: =#REF!+#REF!+#REF!+#REF!+#REF!+#REF! -> #REF!
A34: 2.8.3. | B34: 3 класс | C34: пог. м | G34: кв. м | H34: =SUM(I34:L34) -> #REF! | I34: =#REF!+#REF! -> #REF! | J34: =#REF!+#REF!+#REF!+#REF!+#REF!+#REF! -> #REF! | K34: =#REF!+#REF! -> #REF! | L34: =#REF!+#REF!+#REF!+#REF!+#REF!+#REF! -> #REF!
A35: 2.9. | B35: Пешеходные дорожки | C35: пог. м | D35: =E35+F35 -> #REF! | E35: =#REF! -> #REF! | F35: =#REF! -> #REF! | G35: кв. м | H35: =SUM(I35:L35) -> #REF! | I35: =#REF!+#REF! -> #REF! | J35: =#REF!+#REF!+#REF!+#REF!+#REF!+#REF!+#REF! -> #REF! | K35: =#REF!+#REF! -> #REF! | L35: =#REF!+#REF!+#REF!+#REF!+#REF!+#REF!+#REF! -> #REF!
A36: 2.10. | B36: Озелененные территории многоквартирных домов | G36: кв. м | H36: =SUM(I36:L36) -> #REF! | I36: 0 | J36: =#REF!+#REF!+#REF!+#REF!+#REF! -> #REF! | K36: 0 | L36: =#REF!+#REF!+#REF!+#REF!+#REF! -> #REF!
A37: 2.11. | B37: Иные объекты благоустройства в составе придомовых территорий многоквартирных домов | G37: кв. м | H37: =SUM(I37:L37) -> #REF! | I37: =#REF!+#REF! -> #REF! | J37: =#REF!+#REF!+#REF!+#REF!+#REF!+#REF!+#REF!+#REF! -> #REF! | K37: =#REF!+#REF! -> #REF! | L37: =#REF!+#REF!+#REF!+#REF!+#REF!+#REF!+#REF!+#REF! -> #REF!
A39: № | B39: Наименование | C39: Ед. | D39: Количество объектов благоустройства, расположенных на землях и земельных участках, находящихся в государственной или муниципальной собственности, не являющихся объектами благоустройства в составе придомовых территорий многоквартирных домов | G39: Ед. изм. | H39: Уборочная площадь объектов благоустройства, расположенных на землях и земельных участках, находящихся в государственной или муниципальной собственности, не являющихся объектами благоустройства в составе придомовых территорий многоквартирных домов | M39: Примечание
H40: Уборочная площадь (всего) | I40: Уборочная площадь содержится:
I41: ОМСУ, МБУ, МКУ | K41: Иными лицами
I42: Площадь механизированной уборки | J42: Площадь ручной уборки | K42: Площадь механизированной уборки | L42: Площадь ручной уборки
A43: 23 | B43: 24 | C43: 25 | D43: 26 | G43: 27 | H43: 28 | I43: 29 | J43: 30 | K43: 31 | L43: 32 | M43: 33 | O43: Проверка площади по общественным пространствам
A44: 3. | B44: Территории общего пользования, ПКиО (всего), в т.ч.: | G44: кв.м. | H44: =SUM(I44:L44) -> #REF! | I44: =SUM(I45:I55,I59:I65) -> #REF! | J44: =SUM(J45:J55,J59:J65) -> #REF! | K44: =SUM(K45:K55,K59:K65) -> #REF! | L44: =SUM(L45:L55,L59:L65) -> #REF!
A45: 3.1. | B45: Площади | G45: кв.м. | H45: =SUM(I45:L45) -> #REF! | I45: =#REF!+#REF!-Свод!K45 -> #REF! | J45: =#REF!+#REF!-Свод!L45 -> #REF! | K45: =SUMIF(#REF!,"На содержании иных лиц",#REF!)+SUMIF(#REF!,"На содержании иных лиц",#REF!) -> #REF! | L45: =SUMIF(#REF!,"На содержании иных лиц",#REF!)+SUMIF(#REF!,"На содержании иных лиц",#REF!) -> #REF! | O45: =#REF!-Свод!H44 -> #REF!
A46: 3.2. | B46: Детские площадки | C46: ед. | D46: =#REF! -> #REF! | G46: кв.м. | H46: =SUM(I46:L46) -> #REF! | I46: =#REF!+#REF!-Свод!K46 -> #REF! | J46: =SUM(#REF!,#REF!,#REF!)-Свод!L46 -> #REF! | K46: =SUMIF(#REF!,"На содержании иных лиц",#REF!)+SUMIF(#REF!,"На содержании иных лиц",#REF!) -> #REF! | L46: =SUMIF(#REF!,"На содержании иных лиц",#REF!)+SUMIF(#REF!,"На содержании иных лиц",#REF!)+SUMIF(#REF!,"На содержании иных лиц",#REF!)+SUMIF(#REF!,"На содержании иных лиц",#REF!)+SUMIF(#REF!,"На содержании иных лиц",#REF!)+SUMIF(#REF!,"На содержании иных лиц",#REF!)+SUMIF(#REF!,"На содержании иных лиц",#REF!)+SUMIF(#REF!,"На содержании иных лиц",#REF!) -> #REF!
A47: 3.3. | B47: Спортивные площадки | C47: ед. | D47: =#REF! -> #REF! | G47: кв.м. | H47: =SUM(I47:L47) -> #REF! | I47: =#REF!+#REF!-Свод!K47 -> #REF! | J47: =SUM(#REF!,#REF!,#REF!)-Свод!L47 -> #REF! | K47: =SUMIF(#REF!,"На содержании иных лиц",#REF!)+SUMIF(#REF!,"На содержании иных лиц",#REF!) -> #REF! | L47: =SUMIF(#REF!,"На содержании иных лиц",#REF!)+SUMIF(#REF!,"На содержании иных лиц",#REF!)+SUMIF(#REF!,"На содержании иных лиц",#REF!)+SUMIF(#REF!,"На содержании иных лиц",#REF!)+SUMIF(#REF!,"На содержании иных лиц",#REF!)+SUMIF(#REF!,"На содержании иных лиц",#REF!)+SUMIF(#REF!,"На содержании иных лиц",#REF!)+SUMIF(#REF!,"На содержании иных лиц",#REF!)+SUMIF(#REF!,"На содержании иных лиц",#REF!) -> #REF!
A48: 3.4. | B48: Контейнерные площадки | C48: ед. | D48: =#REF! -> #REF! | G48: кв.м. | H48: =SUM(I48:L48) -> #REF! | I48: =#REF!+#REF!-Свод!K48 -> #REF! | J48: =#REF!+#REF!-Свод!L48 -> #REF! | K48: =SUMIF(#REF!,"На содержании иных лиц",#REF!)+SUMIF(#REF!,"На содержании иных лиц",#REF!) -> #REF! | L48: =SUMIF(#REF!,"На содержании иных лиц",#REF!)+SUMIF(#REF!,"На содержании иных лиц",#REF!) -> #REF!
A49: 3.5. | B49: Площадки для отдыха | C49: ед. | D49: =#REF! -> #REF! | G49: кв.м. | H49: =SUM(I49:L49) -> #REF! | I49: =#REF!+#REF!-Свод!K49 -> #REF! | J49: =SUM(#REF!,#REF!,#REF!)-Свод!L49 -> #REF! | K49: =SUMIF(#REF!,"На содержании иных лиц",#REF!)+SUMIF(#REF!,"На содержании иных лиц",#REF!) -> #REF! | L49: =SUMIF(#REF!,"На содержании иных лиц",#REF!)+SUMIF(#REF!,"На содержании иных лиц",#REF!)+SUMIF(#REF!,"На содержании иных лиц",#REF!)+SUMIF(#REF!,"На содержании иных лиц",#REF!)+SUMIF(#REF!,"На содержании иных лиц",#REF!)+SUMIF(#REF!,"На содержании иных лиц",#REF!)+SUMIF(#REF!,"На содержании иных лиц",#REF!)+SUMIF(#REF!,"На содержании иных лиц",#REF!)+SUMIF(#REF!,"На содержании иных лиц",#REF!) -> #REF!
A50: 3.6. | B50: Площадки для выгула животных | C50: ед. | D50: =#REF! -> #REF! | G50: кв.м. | H50: =SUM(I50:L50) -> #REF! | I50: =#REF!+#REF!-Свод!K50 -> #REF! | J50: =SUM(#REF!,#REF!)-Свод!L50 -> #REF! | K50: =SUMIF(#REF!,"На содержании иных лиц",#REF!)+SUMIF(#REF!,"На содержании иных лиц",#REF!) -> #REF! | L50: =SUMIF(#REF!,"На содержании иных лиц",#REF!)+SUMIF(#REF!,"На содержании иных лиц",#REF!)+SUMIF(#REF!,"На содержании иных лиц",#REF!)+SUMIF(#REF!,"На содержании иных лиц",#REF!)+SUMIF(#REF!,"На содержании иных лиц",#REF!)+SUMIF(#REF!,"На содержании иных лиц",#REF!)+SUMIF(#REF!,"На содержании иных лиц",#REF!)+SUMIF(#REF!,"На содержании иных лиц",#REF!) -> #REF!
A51: 3.7. | B51: Площадки для дрессировки собак | C51: ед. | D51: =#REF! -> #REF! | G51: кв.м. | H51: =SUM(I51:L51) -> #REF! | I51: =#REF!+#REF!-Свод!K51 -> #REF! | J51: =SUM(#REF!,#REF!)-Свод!L51 -> #REF! | K51: =SUMIF(#REF!,"На содержании иных лиц",#REF!)+SUMIF(#REF!,"На содержании иных лиц",#REF!) -> #REF! | L51: =SUMIF(#REF!,"На содержании иных лиц",#REF!)+SUMIF(#REF!,"На содержании иных лиц",#REF!)+SUMIF(#REF!,"На содержании иных лиц",#REF!)+SUMIF(#REF!,"На содержании иных лиц",#REF!)+SUMIF(#REF!,"На содержании иных лиц",#REF!)+SUMIF(#REF!,"На содержании иных лиц",#REF!)+SUMIF(#REF!,"На содержании иных лиц",#REF!)+SUMIF(#REF!,"На содержании иных лиц",#REF!) -> #REF!
A52: 3.8. | B52: Площадки для размещения автотранспорта, парковки | C52: ед. мест | D52: =#REF! -> #REF! | G52: кв.м. | H52: =SUM(I52:L52) -> #REF! | I52: =#REF!+#REF!-Свод!K52 -> #REF! | J52: =SUM(#REF!,#REF!)-Свод!L52 -> #REF! | K52: =SUMIF(#REF!,"На содержании иных лиц",#REF!)+SUMIF(#REF!,"На содержании иных лиц",#REF!) -> #REF! | L52: =SUMIF(#REF!,"На содержании иных лиц",#REF!)+SUMIF(#REF!,"На содержании иных лиц",#REF!)+SUMIF(#REF!,"На содержании иных лиц",#REF!)+SUMIF(#REF!,"На содержании иных лиц",#REF!)+SUMIF(#REF!,"На содержании иных лиц",#REF!)+SUMIF(#REF!,"На содержании иных лиц",#REF!) -> #REF!
A53: 3.9. | B53: Велодорожки | C53: ед. | D53: =#REF! -> #REF! | G53: кв.м. | H53: =SUM(I53:L53) -> #REF! | I53: =#REF!+#REF!-Свод!K53 -> #REF! | J53: =SUM(#REF!,#REF!,#REF!,#REF!,#REF!+#REF!)-Свод!L53 -> #REF! | K53: =SUMIF(#REF!,"На содержании иных лиц",#REF!)+SUMIF(#REF!,"На содержании иных лиц",#REF!) -> #REF! | L53: =SUMIF(#REF!,"На содержании иных лиц",#REF!)+SUMIF(#REF!,"На содержании иных лиц",#REF!)+SUMIF(#REF!,"На содержании иных лиц",#REF!)+SUMIF(#REF!,"На содержании иных лиц",#REF!)+SUMIF(#REF!,"На содержании иных лиц",#REF!)+SUMIF(#REF!,"На содержании иных лиц",#REF!)+SUMIF(#REF!,"На содержании иных лиц",#REF!)+SUMIF(#REF!,"На содержании иных лиц",#REF!) -> #REF!
A54: 3.10. | B54: Внутриквартальные улицы, проезды местного значения, проезды общественных территорий (полосы движения транспортных средств) | C54: пог. м | G54: кв.м. | H54: =SUM(I54:L54) -> #REF! | I54: =#REF!+#REF!-Свод!K54 -> #REF! | J54: =SUM(#REF!,#REF!)-Свод!L54 -> #REF! | K54: =SUMIF(#REF!,"На содержании иных лиц",#REF!)+SUMIF(#REF!,"На содержании иных лиц",#REF!) -> #REF! | L54: =SUMIF(#REF!,"На содержании иных лиц",#REF!)+SUMIF(#REF!,"На содержании иных лиц",#REF!)+SUMIF(#REF!,"На содержании иных лиц",#REF!)+SUMIF(#REF!,"На содержании иных лиц",#REF!)+SUMIF(#REF!,"На содержании иных лиц",#REF!)+SUMIF(#REF!,"На содержании иных лиц",#REF!) -> #REF!
A55: 3.11. | B55: Тротуары, в т. ч.: | C55: пог. м | D55: =#REF! -> #REF! | G55: кв.м. | H55: =SUM(I55:L55) -> #REF! | I55: =SUM(I56:I58) -> #REF! | J55: =SUM(J56:J58) -> #REF! | K55: =SUM(K56:K58) -> #REF! | L55: =SUM(L56:L58) -> #REF!
A56: 3.11.1. | B56: 1 класс | C56: пог. м | G56: кв.м. | H56: =SUM(I56:L56) -> #REF! | I56: =#REF!+#REF!-Свод!K56 -> #REF! | J56: =SUM(#REF!,#REF!,#REF!,#REF!,#REF!,#REF!)-Свод!L56 -> #REF! | K56: =SUMIF(#REF!,"На содержании иных лиц",#REF!)+SUMIF(#REF!,"На содержании иных лиц",#REF!) -> #REF! | L56: =SUMIF(#REF!,"На содержании иных лиц",#REF!)+SUMIF(#REF!,"На содержании иных лиц",#REF!)+SUMIF(#REF!,"На содержании иных лиц",#REF!)+SUMIF(#REF!,"На содержании иных лиц",#REF!)+SUMIF(#REF!,"На содержании иных лиц",#REF!)+SUMIF(#REF!,"На содержании иных лиц",#REF!) -> #REF!
A57: 3.11.2. | B57: 2 класс | C57: пог. м | G57: кв.м. | H57: =SUM(I57:L57) -> #REF! | I57: =#REF!+#REF!-Свод!K57 -> #REF! | J57: =SUM(#REF!,#REF!,#REF!,#REF!,#REF!,#REF!)-Свод!L57 -> #REF! | K57: =SUMIF(#REF!,"На содержании иных лиц",#REF!)+SUMIF(#REF!,"На содержании иных лиц",#REF!) -> #REF! | L57: =SUMIF(#REF!,"На содержании иных лиц",#REF!)+SUMIF(#REF!,"На содержании иных лиц",#REF!)+SUMIF(#REF!,"На содержании иных лиц",#REF!)+SUMIF(#REF!,"На содержании иных лиц",#REF!)+SUMIF(#REF!,"На содержании иных лиц",#REF!)+SUMIF(#REF!,"На содержании иных лиц",#REF!) -> #REF!
A58: 3.11.3. | B58: 3 класс | C58: пог. м | G58: кв.м. | H58: =SUM(I58:L58) -> #REF! | I58: =#REF!+#REF!-Свод!K58 -> #REF! | J58: =SUM(#REF!,#REF!,#REF!,#REF!,#REF!,#REF!)-Свод!L58 -> #REF! | K58: =SUMIF(#REF!,"На содержании иных лиц",#REF!)+SUMIF(#REF!,"На содержании иных лиц",#REF!) -> #REF! | L58: =SUMIF(#REF!,"На содержании иных лиц",#REF!)+SUMIF(#REF!,"На содержании иных лиц",#REF!)+SUMIF(#REF!,"На содержании иных лиц",#REF!)+SUMIF(#REF!,"На содержании иных лиц",#REF!)+SUMIF(#REF!,"На содержании иных лиц",#REF!)+SUMIF(#REF!,"На содержании иных лиц",#REF!) -> #REF!
A59: 3.12. | B59: Пешеходные дорожки | C59: пог. м | D59: =#REF! -> #REF! | G59: кв.м. | H59: =SUM(I59:L59) -> #REF! | I59: =#REF!+#REF!-Свод!K59 -> #REF! | J59: =SUM(#REF!,#REF!)-Свод!L59 -> #REF! | K59: =SUMIF(#REF!,"На содержании иных лиц",#REF!)+SUMIF(#REF!,"На содержании иных лиц",#REF!) -> #REF! | L59: =SUMIF(#REF!,"На содержании иных лиц",#REF!)+SUMIF(#REF!,"На содержании иных лиц",#REF!)+SUMIF(#REF!,"На содержании иных лиц",#REF!)+SUMIF(#REF!,"На содержании иных лиц",#REF!)+SUMIF(#REF!,"На содержании иных лиц",#REF!)+SUMIF(#REF!,"На содержании иных лиц",#REF!)+SUMIF(#REF!,"На содержании иных лиц",#REF!)+SUMIF(#REF!,"На содержании иных лиц",#REF!)+SUMIF(#REF!,"На содержании иных лиц",#REF!) -> #REF!
A60: 3.13. | B60: Пляжи | C60: ед. | G60: кв.м. | H60: =SUM(I60:L60) -> #REF! | I60: =#REF!+#REF!-Свод!K60 -> #REF! | J60: =SUM(#REF!,#REF!)-Свод!L60 -> #REF! | K60: =SUMIF(#REF!,"На содержании иных лиц",#REF!)+SUMIF(#REF!,"На содержании иных лиц",#REF!) -> #REF! | L60: =SUMIF(#REF!,"На содержании иных лиц",#REF!)+SUMIF(#REF!,"На содержании иных лиц",#REF!)+SUMIF(#REF!,"На содержании иных лиц",#REF!)+SUMIF(#REF!,"На содержании иных лиц",#REF!)+SUMIF(#REF!,"На содержании иных лиц",#REF!)+SUMIF(#REF!,"На содержании иных лиц",#REF!)+SUMIF(#REF!,"На содержании иных лиц",#REF!)+SUMIF(#REF!,"На содержании иных лиц",#REF!)+SUMIF(#REF!,"На содержании иных лиц",#REF!) -> #REF!
A61: 3.14. | B61: Озелененные территории | G61: кв.м. | H61: =SUM(I61:L61) -> #REF! | I61: 0 | J61: =SUM(#REF!,#REF!)-Свод!L61 -> #REF! | K61: 0 | L61: =SUMIF(#REF!,"На содержании иных лиц",#REF!)+SUMIF(#REF!,"На содержании иных лиц",#REF!)+SUMIF(#REF!,"На содержании иных лиц",#REF!)+SUMIF(#REF!,"На содержании иных лиц",#REF!)+SUMIF(#REF!,"На содержании иных лиц",#REF!) -> #REF!
A62: 3.15. | B62: Лесные насаждения | G62: кв.м. | H62: =SUM(I62:L62) -> #REF! | I62: 0 | J62: =#REF!-Свод!L62 -> #REF! | K62: 0 | L62: =SUMIF(#REF!,"На содержании иных лиц",#REF!) -> #REF!
A63: 3.16. | B63: Лыжные трассы | C63: пог. м | D63: =#REF! -> #REF! | G63: кв.м. | H63: =SUM(I63:L63) -> #REF! | I63: =#REF!-Свод!K63 -> #REF! | J63: 0 | K63: =SUMIF(#REF!,"На содержании иных лиц",#REF!) -> #REF! | L63: 0
A64: 3.17. | B64: Хоккейные площадки | C64: ед. | D64: =#REF! -> #REF! | G64: кв.м. | H64: =SUM(I64:L64) -> #REF! | I64: 0 | J64: =#REF!+#REF!-Свод!L64 -> #REF! | K64: 0 | L64: =SUMIF(#REF!,"На содержании иных лиц",#REF!)+SUMIF(#REF!,"На содержании иных лиц",#REF!) -> #REF!
A65: 4. | B65: Иные объекты благоустройства, расположенные на земельных участках и землях, находящихся в государственной или муниципальной собственности, не являющихся объектами благоустройства в составе придомовых территорий многоквартирных домов | C65: ед. | D65: =COUNTIF(#REF!,"Иные объекты благоустройства") -> #REF! | G65: кв. м | H65: =SUM(I65:L65) -> #REF! | I65: =#REF!+#REF!-Свод!K65 -> #REF! | J65: =SUM(#REF!,#REF!)-Свод!L65 -> #REF! | K65: =SUMIF(#REF!,"На содержании иных лиц",#REF!)+SUMIF(#REF!,"На содержании иных лиц",#REF!) -> #REF! | L65: =SUMIF(#REF!,"На содержании иных лиц",#REF!)+SUMIF(#REF!,"На содержании иных лиц",#REF!)+SUMIF(#REF!,"На содержании иных лиц",#REF!)+SUMIF(#REF!,"На содержании иных лиц",#REF!)+SUMIF(#REF!,"На содержании иных лиц",#REF!)+SUMIF(#REF!,"На содержании иных лиц",#REF!)+SUMIF(#REF!,"На содержании иных лиц",#REF!)+SUMIF(#REF!,"На содержании иных лиц",#REF!)+SUMIF(#REF!,"На содержании иных лиц",#REF!)+SUMIF(#REF!,"На содержании иных лиц",#REF!) -> #REF!
K68: Приложение 2 к постановлению администрации городского округа Кашира от 19.11.2024 № 2650-па
A74: Сводный титульный списока элементов благоустройства, расположенных на территории Городского округа _______________
A76: № п/п | B76: Наименование | C76: Количество элементов благоустройства объектов благоустройства | H76: Примечание
C78: Ед. изм. | D78: Количество элементов благоустройства (всего) | E78: Элементы благоустройства содержатся:
E79: ОМСУ, МБУ, МКУ | F79: Иными лицами, обеспечивающими содержание придомовых территорий многоквартирных домов, объектов, прилегающих территорий
F80: ЭО | G80: Иными лицами
A81: 1 | B81: 2 | C81: 3 | D81: 4 | E81: 5 | F81: 6 | G81: 7 | H81: 8
A82: 5. | B82: Специализированные декоративные, технические, конструктивные устройства и оборудование (всего), в т. ч.: | C82: ед. | D82: =SUM(D83,D84,D85,D86,D87,D94,D97,D100) -> #REF! | E82: =SUM(E83,E84,E85,E86,E87,E94,E97,E100) -> #REF! | F82: =SUM(F83,F84,F85,F86,F87,F94,F97,F100) -> #REF! | G82: =SUM(G83,G84,G85,G86,G87,G94,G97,G100) -> #REF!
A83: 5.1. | B83: Оборудование детских игровых площадок | C83: ед. | D83: =SUM(E83:G83) -> #REF! | E83: =SUM(#REF!,#REF!,#REF!,#REF!)-Свод!G83 -> #REF! | F83: =#REF!+#REF!+#REF! -> #REF! | G83: =SUMIF(#REF!,"На содержании иных лиц",#REF!)+SUMIF(#REF!,"На содержании иных лиц",#REF!)+SUMIF(#REF!,"На содержании иных лиц",#REF!) -> #REF!
A84: 5.2. | B84: Оборудование спортивных площадок (всего) | C84: ед. | D84: =SUM(E84:G84) -> #REF! | E84: =SUM(#REF!,#REF!,#REF!,#REF!)-Свод!G84 -> #REF! | F84: =SUM(#REF!,#REF!,#REF!) -> #REF! | G84: =SUMIF(#REF!,"На содержании иных лиц",#REF!)+SUMIF(#REF!,"На содержании иных лиц",#REF!)+SUMIF(#REF!,"На содержании иных лиц",#REF!) -> #REF!
A85: 5.3. | B85: Специальное тренировочное оборудование для дрессировки собак | C85: ед. | D85: =SUM(E85:G85) -> #REF! | E85: =SUM(SUMIFS(#REF!,#REF!,{"Муниципальный заказ","На балансе муниципального учреждения"})) -> #REF! | F85: 0 | G85: =SUM(SUMIFS(#REF!,#REF!,{"На содержании иных лиц"})) -> #REF!
A86: 5.4. | B86: Конструкции велопарковок | C86: ед. | D86: =SUM(E86:G86) -> #REF! | E86: =#REF!+#REF!+SUM(SUMIFS(#REF!,#REF!,{"Муниципальный заказ","На балансе муниципального учреждения"}))+SUM(SUMIFS(#REF!,#REF!,{"Муниципальный заказ","На балансе муниципального учреждения"})) -> #REF! | F86: =SUM(#REF!) -> #REF! | G86: =SUMIF(#REF!,"На содержании иных лиц",#REF!)+SUMIF(#REF!,"На содержании иных лиц",#REF!) -> #REF!
A87: 5.5. | B87: Малые архитектурные формы (всего), в т.ч.: | C87: ед. | D87: =SUM(E87:G87) -> #REF! | E87: =SUM(E88:E92) -> #REF! | F87: =SUM(F88:F92) -> #REF! | G87: =SUM(G88:G92) -> #REF!
A88: 5.5.1. | B88: Количество городской мебели | C88: ед. | D88: =SUM(E88:G88) -> #REF! | E88: =#REF!+#REF!-Свод!G88 -> #REF! | F88: =#REF! -> #REF! | G88: =SUMIF(#REF!,"На содержании иных лиц",#REF!) -> #REF!
A89: 5.5.2. | B89: Элементы монументально-декоративного оформления | C89: ед. | D89: =SUM(E89:G89) -> #REF! | E89: =#REF!+#REF!-Свод!G89 -> #REF! | F89: =#REF! -> #REF! | G89: =SUMIF(#REF!,"На содержании иных лиц",#REF!) -> #REF!
A90: 5.5.3. | B90: Устройства для оформления озеленения | C90: ед. | D90: =SUM(E90:G90) -> #REF! | E90: =#REF!+#REF!-Свод!G90 -> #REF! | F90: =#REF! -> #REF! | G90: =SUMIF(#REF!,"На содержании иных лиц",#REF!) -> #REF!
A91: 5.5.4. | B91: Урны (до 0,5 куб. м) | C91: ед. | D91: =SUM(E91:G91) -> #REF! | E91: =#REF!+#REF!-Свод!G91 -> #REF! | F91: =#REF! -> #REF! | G91: =SUMIF(#REF!,"На содержании иных лиц",#REF!) -> #REF!
A92: 5.5.5. | B92: Элементы для отдыха и защиты от осадков | C92: ед. | D92: =SUM(E92:G92) -> #REF! | E92: =#REF!-Свод!G92 -> #REF! | F92: 0 | G92: =SUMIF(#REF!,"На содержании иных лиц",#REF!) -> #REF!
A93: 5.5.6. | B93: Песочницы | C93: ед. | D93: =SUM(E93:G93) -> #REF! | E93: =#REF!+#REF!-Свод!G93 -> #REF! | F93: =#REF! -> #REF! | G93: =SUMIF(#REF!,"На содержании иных лиц",#REF!) -> #REF!
A94: 5.6. | B94: Водные устройства (всего), в т. ч.: | C94: ед. | D94: =SUM(E94:G94) -> #REF! | E94: =SUM(E95:E96) -> #REF! | F94: =SUM(F95:F96) -> 0 | G94: =SUM(G95:G96) -> #REF!
A95: 5.6.1. | B95: Питьевые фонтанчики | C95: ед. | D95: =SUM(E95:G95) -> #REF! | E95: =#REF!-Свод!G95 -> #REF! | F95: 0 | G95: =SUMIF(#REF!,"На содержании иных лиц",#REF!) -> #REF!
A96: 5.6.2. | B96: Фонтаны | C96: ед. | D96: =SUM(E96:G96) -> #REF! | E96: =#REF!-Свод!G96 -> #REF! | F96: 0 | G96: =SUMIF(#REF!,"На содержании иных лиц",#REF!) -> #REF!
A97: 5.7. | B97: Средства размещения информации, включая навигацию (всего), в т. ч.: | C97: ед. | D97: =SUM(E97:G97) -> #REF! | E97: =SUM(E98:E99) -> #REF! | F97: =SUM(F98:F99) -> #REF! | G97: =SUM(G98:G99) -> #REF!
A98: 5.7.1. | B98: Информационные стенды | C98: ед. | D98: =SUM(E98:G98) -> #REF! | E98: =#REF!+#REF!-Свод!G98 -> #REF! | F98: =#REF! -> #REF! | G98: =SUMIF(#REF!,"На содержании иных лиц",#REF!) -> #REF!
A99: 5.7.2. | B99: Иные средства | C99: ед. | D99: =SUM(E99:G99) -> #REF! | E99: =#REF!+#REF!-Свод!G99 -> #REF! | F99: =#REF! -> #REF! | G99: =SUMIF(#REF!,"На содержании иных лиц",#REF!) -> #REF!
A100: 5.8. | B100: Светильники наружного освещения (всего), в т. ч.: | C100: ед. | D100: =SUM(E100:G100) -> 0
A101: 5.8.1. | B101: Светодиодные светильники | C101: ед. | D101: =SUM(E101:G101) -> 0
A102: 6. | B102: Водные объекты3 | C102: ед. | D102: =SUM(E102:G102) -> #REF! | E102: =#REF!-G102 -> #REF! | F102: 0 | G102: =SUMIF(#REF!,"На содержании иных лиц",#REF!) -> #REF!
A103: 7. | B103: Некапитальные строения, сооружения4 (всего), в т. ч.: | C103: ед. | D103: =SUM(D104,D105,D106,D107) -> #REF! | E103: =SUM(E104,E105,E106,E107) -> #REF! | F103: =SUM(F104,F105,F106,F107) -> 0 | G103: =SUM(G104,G105,G106,G107) -> #REF!
A104: 7.1. | B104: Мобильные туалетные кабины | C104: ед. | D104: =SUM(E104:G104) -> #REF! | E104: =#REF!-Свод!G104 -> #REF! | F104: 0 | G104: =SUMIF(#REF!,"На содержании иных лиц",#REF!) -> #REF!
A105: 7.2. | B105: Нестационарные торговые объекты | C105: ед. | D105: =SUM(E105:G105) -> #REF! | E105: =#REF!-Свод!G105 -> #REF! | F105: 0 | G105: =SUMIF(#REF!,"На содержании иных лиц",#REF!) -> #REF!
A106: 7.3. | B106: Сцены, эстрады (летние кинотеатры, зеленые театры) | C106: ед. | D106: =SUM(E106:G106) -> #REF! | E106: =#REF!-Свод!G106 -> #REF! | F106: 0 | G106: =SUMIF(#REF!,"На содержании иных лиц",#REF!) -> #REF!
A107: 7.4. | B107: Амфитеатры | C107: ед. | D107: =SUM(E107:G107) -> #REF! | E107: =#REF!-Свод!G107 -> #REF! | F107: 0 | G107: =SUMIF(#REF!,"На содержании иных лиц",#REF!) -> #REF!
A108: 8. | B108: Элементы озеленения (всего), в т. ч.: | C108: ед. | D108: =SUM(D109,D110,D111) -> #REF! | E108: =SUM(E109,E110,E111) -> #REF! | F108: =SUM(F109,F110,F111) -> #REF! | G108: =SUM(G109,G110,G111) -> #REF!
A109: 8.1. | B109: Деревья | C109: ед. | D109: =SUM(E109:G109) -> #REF! | E109: =#REF!+#REF!-Свод!G109 -> #REF! | F109: =#REF! -> #REF! | G109: =SUMIF(#REF!,"На содержании иных лиц",#REF!) -> #REF!
A110: 8.2. | B110: Кустарники | C110: ед. | D110: =SUM(E110:G110) -> #REF! | E110: =#REF!+#REF!-Свод!G110 -> #REF! | F110: =#REF! -> #REF! | G110: =SUMIF(#REF!,"На содержании иных лиц",#REF!) -> #REF!
A111: 8.3. | B111: Цветники, в том числе: | C111: ед. | D111: =SUM(E111:G111) -> #REF! | E111: =#REF!+#REF!+#REF!+#REF!-Свод!G111 -> #REF! | F111: =#REF!+#REF! -> #REF! | G111: =SUMIF(#REF!,"На содержании иных лиц",#REF!)+SUMIF(#REF!,"На содержании иных лиц",#REF!) -> #REF!
C112: кв. м | D112: =D113+D114 -> #REF! | E112: =E113+E114 -> #REF! | F112: =F113+F114 -> #REF! | G112: =G113+G114 -> #REF!
A113: 8.3.1. | B113: однолетники | C113: кв. м | D113: =SUM(E113:G113) -> #REF! | E113: =#REF!+#REF!-Свод!G113 -> #REF! | F113: =#REF! -> #REF! | G113: =SUMIF(#REF!,"На содержании иных лиц",#REF!) -> #REF!
A114: 8.3.2. | B114: многолетники | C114: кв. м | D114: =SUM(E114:G114) -> #REF! | E114: =#REF!+#REF!-Свод!G114 -> #REF! | F114: =#REF! -> #REF! | G114: =SUMIF(#REF!,"На содержании иных лиц",#REF!) -> #REF!
A115: 9. | B115: Иные устройства и оборудования | C115: ед. | D115: =SUM(E115:G115) -> #REF! | E115: =#REF!-Свод!G115 -> #REF! | F115: 0 | G115: =SUMIF(#REF!,"На содержании иных лиц",#REF!) -> #REF!
A116: 10. | B116: Элементы сопряжения поверхностей | C116: п. м | D116: =SUM(E116:G116) -> #REF! | E116: =#REF!+#REF!-Свод!G116 -> #REF! | F116: =#REF! -> #REF! | G116: =SUMIF(#REF!,"На содержании иных лиц",#REF!) -> #REF!
A117: 11. | B117: Ограждение (всего), в т. ч.: | C117: п. м | D117: =SUM(E117:G117) -> #REF! | E117: =SUM(E118:E120) -> #REF! | F117: =SUM(F118:F120) -> #REF! | G117: =SUM(G118:G120) -> #REF!
A118: 11.1. | B118: Деревянное ограждение | C118: п. м | D118: =SUM(E118:G118) -> #REF! | E118: =#REF!+#REF!-Свод!G118 -> #REF! | F118: =#REF! -> #REF! | G118: =SUMIF(#REF!,"На содержании иных лиц",#REF!) -> #REF!
A119: 11.2. | B119: Металлическое ограждение | C119: п. м | D119: =SUM(E119:G119) -> #REF! | E119: =#REF!+#REF!-Свод!G119 -> #REF! | F119: =#REF! -> #REF! | G119: =SUMIF(#REF!,"На содержании иных лиц",#REF!) -> #REF! | O119: Проверка площади покрытия
A120: 11.3. | B120: Прочие ограждения | C120: п. м | D120: =SUM(E120:G120) -> #REF! | E120: =#REF!+#REF!-Свод!G120 -> #REF! | F120: =#REF! -> #REF! | G120: =SUMIF(#REF!,"На содержании иных лиц",#REF!) -> #REF!
...
