Workbook
Name _Hlk38842750: Свод!$B$16
Name _Hlk38847491: Свод!$A$7
Name Исполнитель: [1]!Таблица5[Исполнитель]
Name Подотчетность: [1]!Таблица2[Подотчетность]

Sheet Свод
K4: УТВЕРЖДЕН постановление администрации городского округа Кашира от 19.11.2024 № 2650-па
A8: Сводный титульный список объектов благоустройства, расположенных на территории муниципального образования "Городской округ Кашира Московской области"
A10: № | B10: Наименование | G10: Ед. изм. | H10: Уборочная площадь (всего) | I10: Уборочная площадь содержится: | M10: Доля уборочной площади (всего) от общей площади городского округа (%)
I12: ОМСУ, МБУ, МКУ | K12: Иными лицами
I13: Площадь механизированной уборки | J13: Площадь ручной уборки | K13: Площадь механизированной уборки | L13: Площадь ручной уборки
A14: 1 | B14: 2 | G14: 3 | H14: 4 | I14: 5 | J14: 6 | K14: 7 | L14: 8 | M14: 9
A15: 1 | B15: Объекты благоустройства сводного титульного списка объектов благоустройства, расположенных на территории Московской области1 | G15: кв.м. | H15: =+I15+J15+K15+L15 -> #REF! | I15: =I22+I44 -> #REF! | J15: =J22+J44 -> #REF! | K15: =K22+K44 -> #REF! | L15: =L22+L44 -> #REF!
A17: № | B17: Наименование | C17: Количество объектов благоустройства в составе придомовых территорий многоквартирных домов3 | G17: Ед. изм. | H17: Уборочная площадь объектов благоустройства в составе придомовых территорий многоквартирных домов4 | M17: Примечание
B19: Объекты благоустройства в составе придомовых территорий многоквартирных домов3 | C19: Ед. | D19: Количество объектов благоустройства (всего) | E19: Объекты содержатся: | H19: Уборочная площадь (всего) | I19: ОМСУ, МБУ, МКУ | K19: ЭО
E20: ОМСУ, МБУ, МКУ | F20: ЭО | I20: Площадь механизированной уборки | J20: Площадь ручной уборки | K20: Площадь механизированной уборки | L20: Площадь ручной уборки
A21: 10 | B21: 11 | C21: 12 | D21: 13 | E21: 14 | F21: 15 | G21: 16 | H21: 17 | I21: 18 | J21: 19 | K21: 20 | L21: 21 | M21: 22
A22: 2. | B22: Объекты благоустройства в составе придомовых территорий многоквартирных домов (всего), в том числе: | G22: кв.м. | H22: =SUM(I22:L22) -> #REF! | I22: =SUM(I23:I24,I26:I30,I31,I35:I37) -> #REF! | J22: =SUM(J23:J24,J26:J30,J31,J35:J37) -> #REF! | K22: =SUM(K23:K24,K26:K30,K31,K35:K37) -> #REF! | L22: =SUM(L23:L24,L26:L30,L31,L35:L37) -> #REF! | O22: Проверка площади по дворовым территориям
A23: 2.1. | B23: Детские игровые площадки | C23: ед. | D23: =E23+F23 -> #REF! | E23: =#REF! -> #REF! | F23: =#REF! -> #REF! | G23: кв. м | H23: =SUM(I23:L23) -> #REF! | I23: =#REF!+#REF! -> #REF! | J23: =#REF!+#REF!+#REF!+#REF!+#REF!+#REF!+#REF!+#REF! -> #REF! | K23: =#REF!+#REF! -> #REF! | L23: =#REF!+#REF!+#REF!+#REF!+#REF!+#REF!+#REF!+#REF! -> #REF!
A24: 2.2. | B24: Спортивные площадки | C24: ед. | D24: =E24+F24 -> #REF! | E24: =#REF! -> #REF! | F24: =#REF! -> #REF! | G24: кв. м | H24: =SUM(I24:L24) -> #REF! | I24: =#REF!+#REF! -> #REF! | J24: =#REF!+#REF!+#REF!+#REF!+#REF!+#REF!+#REF!+#REF!+#REF!+#REF! -> #REF! | K24: =#REF!+#REF! -> #REF! | L24: =#REF!+#REF!+#REF!+#REF!+#REF!+#REF!+#REF!+#REF!+#REF!+#REF! -> #REF! | O24: =#REF!-Свод!H22 -> #REF!
A25: 2.2.1. | B25: Скейтпарки | C25: ед | D25: =E25+F25 -> #REF! | E25: =#REF! -> #REF! | F25: =#REF! -> #REF! | G25: кв. м
A26: 2.3. | B26: Площадки отдыха | C26: ед. | D26: =E26+F26 -> #REF! | E26: =#REF! -> #REF! | F26: =#REF! -> #REF! | G26: кв. м | H26: =SUM(I26:L26) -> #REF! | I26: =#REF!+#REF! -> #REF! | J26: =#REF!+#REF!+#REF!+#REF!+#REF!+#REF!+#REF!+#REF!+#REF! -> #REF! | K26: =#REF!+#REF! -> #REF! | L26: =#REF!+#REF!+#REF!+#REF!+#REF!+#REF!+#REF!+#REF!+#REF! -> #REF!
A27: 2.4. | B27: Контейнерные площадки | C27: ед. | D27: =E27+F27 -> #REF! | E27: =#REF! -> #REF! | F27: =#REF! -> #REF! | G27: кв. м | H27: =SUM(I27:L27) -> #REF! | I27: =#REF!+#REF! -> #REF! | J27: =#REF!+#REF! -> #REF! | K27: =#REF!+#REF! -> #REF! | L27: =#REF!+#REF! -> #REF!
A28: 2.5. | B28: Коллективные автостоянки | C28: ед. мест | D28: =E28+F28 -> #REF! | E28: =#REF! -> #REF! | F28: =#REF! -> #REF! | G28: кв. м | H28: =SUM(I28:L28) -> #REF! | I28: =#REF!+#REF! -> #REF! | J28: =#REF!+#REF!+#REF!+#REF!+#REF!+#REF! -> #REF! | K28: =#REF!+#REF! -> #REF! | L28: =#REF!+#REF!+#REF!+#REF!+#REF!+#REF! -> #REF!
A29: 2.6. | B29: Велодорожки | C29: ед. | D29: =E29+F29 -> #REF! | E29: =#REF! -> #REF! | F29: =#REF! -> #REF! | G29: кв. м | H29: =SUM(I29:L29) -> #REF! | I29: =#REF!+#REF! -> #REF! | J29: =#REF!+#REF!+#REF!+#REF!+#REF!+#REF!+#REF!+#REF! -> #REF! | K29: =#REF!+#REF! -> #REF! | L29: =#REF!+#REF!+#REF!+#REF!+#REF!+#REF!+#REF!+#REF! -> #REF!
A30: 2.7. | B30: Внутридворовые проезды (полосы движения транспортных средств) | C30: пог. м | D30: =E30+F30 -> #REF! | E30: =#REF! -> #REF! | F30: =#REF! -> #REF! | G30: кв. м | H30: =SUM(I30:L30) -> #REF! | I30: =#REF!+#REF! -> #REF! | J30: =#REF!+#REF!+#REF!+#REF!+#REF!+#REF! -> #REF! | K30: =#REF!+#REF! -> #REF! | L30: =#REF!+#REF!+#REF!+#REF!+#REF!+#REF! -> #REF!
A31: 2.8. | B31: Тротуары, в т. ч.: | C31: пог. м | D31: =E31+F31 -> #REF! | E31: =#REF! -> #REF! | F31: =#REF! -> #REF! | G31: кв. м | H31: =SUM(I31:L31) -> #REF! | I31: =SUM(I32:I34) -> #REF! | J31: =SUM(J32:J34) -> #REF! | K31: =SUM(K32:K34) -> #REF! | L31: =SUM(L32:L34) -> #REF!
A32: 2.8.1. | B32: 1 класс | C32: пог. м | G32: кв. м | H32: =SUM(I32:L32) -> #REF! | I32: =#REF!+#REF! -> #REF! | J32: =#REF!+#REF!+#REF!+#REF!+#REF!+#REF! -> #REF! | K32: =#REF!+#REF! -> #REF! | L32: =#REF!+#REF!+#REF!+#REF!+#REF!+#REF! -> #REF!
A33: 2.8.2. | B33: 2 класс | C33: пог. м | G33: кв. м | H33: =SUM(I33:L33) -> #REF! | I33: =#REF!+#REF! -> #REF! | J33: =#REF!+#REF!+#REF!+#REF!+#REF!+#REF! -> #REF! | K33: =#REF!+#REF! -> #REF! | L33: =#REF!+#REF!+#REF!+#REF!+#REF!+#REF! -> #REF!
A34: 2.8.3. | B34: 3 класс | C34: пог. м | G34: кв. м | H34: =SUM(I34:L34) -> #REF! | I34: =#REF!+#REF! -> #REF! | J34: =#REF!+#REF!+#REF!+#REF!+#REF!+#REF! -> #REF! | K34: =#REF!+#REF! -> #REF! | L34: =#REF!+#REF!+#REF!+#REF!+#REF!+#REF! -> #REF!
A35: 2.9. | B35: Пешеходные дорожки | C35: пог. м | D35: =E35+F35 -> #REF! | E35: =#REF! -> #REF! | F35: =#REF! -> #REF! | G35: кв. м | H35: =SUM(I35:L35) -> #REF! | I35: =#REF!+#REF! -> #REF! | J35: =#REF!+#REF!+#REF!+#REF!+#REF!+#REF!+#REF! -> #REF! | K35: =#REF!+#REF! -> #REF! | L35: =#REF!+#REF!+#REF!+#REF!+#REF!+#REF!+#REF! -> #REF!
A36: 2.10. | B36: Озелененные территории многоквартирных домов | G36: кв. м | H36: =SUM(I36:L36) -> #REF! | I36: 0 | J36: =#REF!+#REF!+#REF!+#REF!+#REF! -> #REF! | K36: 0 | L36: =#REF!+#REF!+#REF!+#REF!+#REF! -> #REF!
A37: 2.11. | B37: Иные объекты благоустройства в составе придомовых территорий многоквартирных домов | G37: кв. м | H37: =SUM(I37:L37) -> #REF! | I37: =#REF!+#REF! -> #REF! | J37: =#REF!+#REF!+#REF!+#REF!+#REF!+#REF!+#REF!+#REF! -> #REF! | K37: =#REF!+#REF! -> #REF! | L37: =#REF!+#REF!+#REF!+#REF!+#REF!+#REF!+#REF!+#REF! -> #REF!
A39: № | B39: Наименование | C39: Ед. | D39: Количество объектов благоустройства, расположенных на землях и земельных участках, находящихся в государственной или муниципальной собственности, не являющихся объектами благоустройства в составе придомовых территорий многоквартирных домов | G39: Ед. изм. | H39: Уборочная площадь объектов благоустройства, расположенных на землях и земельных участках, находящихся в государственной или муниципальной собственности, не являющихся объектами благоустройства в составе придомовых территорий многоквартирных домов | M39: Примечание
H40: Уборочная площадь (всего) | I40: Уборочная площадь содержится:
I41: ОМСУ, МБУ, МКУ | K41: Иными лицами
I42: Площадь механизированной уборки | J42: Площадь ручной уборки | K42: Площадь механизированной уборки | L42: Площадь ручной уборки
A43: 23 | B43: 24 | C43: 25 | D43: 26 | G43: 27 | H43: 28 | I43: 29 | J43: 30 | K43: 31 | L43: 32 | M43: 33 | O43: Проверка площади по общественным пространствам
A44: 3. | B44: Территории общего пользования, ПКиО (всего), в т.ч.: | G44: кв.м. | H44: =SUM(I44:L44) -> #REF! | I44: =SUM(I45:I55,I59:I65) -> #REF! | J44: =SUM(J45:J55,J59:J65) -> #REF! | K44: =SUM(K45:K55,K59:K65) -> #REF! | L44: =SUM(L45:L55,L59:L65) -> #REF!
A45: 3.1. | B45: Площади | G45: кв.м. | H45: =SUM(I45:L45) -> #REF! | I45: =#REF!+#REF!-Свод!K45 -> #REF! | J45: =#REF!+#REF!-Свод!L45 -> #REF! | K45: =SUMIF(#REF!,"На содержании иных лиц",#REF!)+SUMIF(#REF!,"На содержании иных лиц",#REF!) -> #REF! | L45: =SUMIF(#REF!,"На содержании иных лиц",#REF!)+SUMIF(#REF!,"На содержании иных лиц",#REF!) -> #REF! | O45: =#REF!-Свод!H44 -> #REF!
A46: 3.2. | B46: Детские площадки | C46: ед. | D46: =#REF! -> #REF! | G46: кв.м. | H46: =SUM(I46:L46) -> #REF! | I46: =#REF!+#REF!-Свод!K46 -> #REF! | J46: =SUM(#REF!,#REF!,#REF!)-Свод!L46 -> #REF! | K46: =SUMIF(#REF!,"На содержании иных лиц",#REF!)+SUMIF(#REF!,"На содержании иных лиц",#REF!) -> #REF! | L46: =SUMIF(#REF!,"На содержании иных лиц",#REF!)+SUMIF(#REF!,"На содержании иных лиц",#REF!)+SUMIF(#REF!,"На содержании иных лиц",#REF!)+SUMIF(#REF!,"На содержании иных лиц",#REF!)+SUMIF(#REF!,"На содержании иных лиц",#REF!)+SUMIF(#REF!,"На содержании иных лиц",#REF!)+SUMIF(#REF!,"На содержании иных лиц",#REF!)+SUMIF(#REF!,"На содержании иных лиц",#REF!) -> #REF!
A47: 3.3. | B47: Спортивные площадки | C47: ед. | D47: =#REF! -> #REF! | G47: кв.м. | H47: =SUM(I47:L47) -> #REF! | I47: =#REF!+#REF!-Свод!K47 -> #REF! | J47: =SUM(#REF!,#REF!,#REF!)-Свод!L47 -> #REF! | K47: =SUMIF(#REF!,"На содержании иных лиц",#REF!)+SUMIF(#REF!,"На содержании иных лиц",#REF!) -> #REF! | L47: =SUMIF(#REF!,"На содержании иных лиц",#REF!)+SUMIF(#REF!,"На содержании иных лиц",#REF!)+SUMIF(#REF!,"На содержании иных лиц",#REF!)+SUMIF(#REF!,"На содержании иных лиц",#REF!)+SUMIF(#REF!,"На содержании иных лиц",#REF!)+SUMIF(#REF!,"На содержании иных лиц",#REF!)+SUMIF(#REF!,"На содержании иных лиц",#REF!)+SUMIF(#REF!,"На содержании иных лиц",#REF!)+SUMIF(#REF!,"На содержании иных лиц",#REF!) -> #REF!
A48: 3.4. | B48: Контейнерные площадки | C48: ед. | D48: =#REF! -> #REF! | G48: кв.м. | H48: =SUM(I48:L48) -> #REF! | I48: =#REF!+#REF!-Свод!K48 -> #REF! | J48: =#REF!+#REF!-Свод!L48 -> #REF! | K48: =SUMIF(#REF!,"На содержании иных лиц",#REF!)+SUMIF(#REF!,"На содержании иных лиц",#REF!) -> #REF! | L48: =SUMIF(#REF!,"На содержании иных лиц",#REF!)+SUMIF(#REF!,"На содержании иных лиц",#REF!) -> #REF!
A49: 3.5. | B49: Площадки для отдыха | C49: ед. | D49: =#REF! -> #REF! | G49: кв.м. | H49: =SUM(I49:L49) -> #REF! | I49: =#REF!+#REF!-Свод!K49 -> #REF! | J49: =SUM(#REF!,#REF!,#REF!)-Свод!L49 -> #REF! | K49: =SUMIF(#REF!,"На содержании иных лиц",#REF!)+SUMIF(#REF!,"На содержании иных лиц",#REF!) -> #REF! | L49: =SUMIF(#REF!,"На содержании иных лиц",#REF!)+SUMIF(#REF!,"На содержании иных лиц",#REF!)+SUMIF(#REF!,"На содержании иных лиц",#REF!)+SUMIF(#REF!,"На содержании иных лиц",#REF!)+SUMIF(#REF!,"На содержании иных лиц",#REF!)+SUMIF(#REF!,"На содержании иных лиц",#REF!)+SUMIF(#REF!,"На содержании иных лиц",#REF!)+SUMIF(#REF!,"На содержании иных лиц",#REF!)+SUMIF(#REF!,"На содержании иных лиц",#REF!) -> #REF!
A50: 3.6. | B50: Площадки для выгула животных | C50: ед. | D50: =#REF! -> #REF! | G50: кв.м. | H50: =SUM(I50:L50) -> #REF! | I50: =#REF!+#REF!-Свод!K50 -> #REF! | J50: =SUM(#REF!,#REF!)-Свод!L50 -> #REF! | K50: =SUMIF(#REF!,"На содержании иных лиц",#REF!)+SUMIF(#REF!,"На содержании иных лиц",#REF!) -> #REF! | L50: =SUMIF(#REF!,"На содержании иных лиц",#REF!)+SUMIF(#REF!,"На содержании иных лиц",#REF!)+SUMIF(#REF!,"На содержании иных лиц",#REF!)+SUMIF(#REF!,"На содержании иных лиц",#REF!)+SUMIF(#REF!,"На содержании иных лиц",#REF!)+SUMIF(#REF!,"На содержании иных лиц",#REF!)+SUMIF(#REF!,"На содержании иных лиц",#REF!)+SUMIF(#REF!,"На содержании иных лиц",#REF!) -> #REF!
A51: 3.7. | B51: Площадки для дрессировки собак | C51: ед. | D51: =#REF! -> #REF! | G51: кв.м. | H51: =SUM(I51:L51) -> #REF! | I51: =#REF!+#REF!-Свод!K51 -> #REF! | J51: =SUM(#REF!,#REF!)-Свод!L51 -> #REF! | K51: =SUMIF(#REF!,"На содержании иных лиц",#REF!)+SUMIF(#REF!,"На содержании иных лиц",#REF!) -> #REF! | L51: =SUMIF(#REF!,"На содержании иных лиц",#REF!)+SUMIF(#REF!,"На содержании иных лиц",#REF!)+SUMIF(#REF!,"На содержании иных лиц",#REF!)+SUMIF(#REF!,"На содержании иных лиц",#REF!)+SUMIF(#REF!,"На содержании иных лиц",#REF!)+SUMIF(#REF!,"На содержании иных лиц",#REF!)+SUMIF(#REF!,"На содержании иных лиц",#REF!)+SUMIF(#REF!,"На содержании иных лиц",#REF!) -> #REF!
...
